BEGIN:VCALENDAR
VERSION:2.0
PRODID:-//Mount Vernon NWREC - ECPv6.1.3//NONSGML v1.0//EN
CALSCALE:GREGORIAN
METHOD:PUBLISH
X-WR-CALNAME:Mount Vernon NWREC
X-ORIGINAL-URL:https://mtvernon.wsu.edu
X-WR-CALDESC:Events for Mount Vernon NWREC
REFRESH-INTERVAL;VALUE=DURATION:PT1H
X-Robots-Tag:noindex
X-PUBLISHED-TTL:PT1H
BEGIN:VTIMEZONE
TZID:America/Los_Angeles
BEGIN:DAYLIGHT
TZOFFSETFROM:-0800
TZOFFSETTO:-0700
TZNAME:PDT
DTSTART:20250309T100000
END:DAYLIGHT
BEGIN:STANDARD
TZOFFSETFROM:-0700
TZOFFSETTO:-0800
TZNAME:PST
DTSTART:20251102T090000
END:STANDARD
END:VTIMEZONE
BEGIN:VEVENT
DTSTART;TZID=America/Los_Angeles:20250806T143000
DTEND;TZID=America/Los_Angeles:20250806T160000
DTSTAMP:20260420T181428
CREATED:20250711T172628Z
LAST-MODIFIED:20250711T174217Z
UID:10000377-1754490600-1754496000@mtvernon.wsu.edu
SUMMARY:WSU Berry Field Day
DESCRIPTION:This field day will showcase advanced blueberry selections and cultivars being evaluated through support by the Washington Blueberry Commission. \nWe welcome individuals with disabilities to participate in this program. For questions about physical access or to request accommodations\, please contact the event organizer. Requests should be made at least one (1) week in advance of the event. While we make every effort to secure services\, please note that accommodations are subject to availability.
URL:https://mtvernon.wsu.edu/event/wsu-berry-field-day-mount-vernon/
LOCATION:WSU Mount Vernon NWREC\, 16650 STATE ROUTE 536\, MOUNT VERNON\, WA\, 98273\, United States
CATEGORIES:Special Event
ORGANIZER;CN="Lisa%20DeVetter":MAILTO:lisa.devetter@wsu.edu
END:VEVENT
END:VCALENDAR